Workbook

Sheet List1
A2: Využití uhlovodíků
A4: Z uvedených možností vyber správnou odpověď
C6: Název uhlovodíku | D6: Využití | H6: Název projektu: Moderní škola
C7: aceton | H7: Registrační číslo projektu: CZ.1.07/1.4.00/21.2511
C8: ethanol | H8: Škola: Základní škola, Česká Lípa, Školní 2520, příspěvková organizace
C9: benzen | H9: Číslo klíčové aktivity: V/2
C10: ethylen | H10: Sada: VY_52_INOVACE_CHJP 2/14
C11: acetylen | H11: Druh učebního materiálu: interaktivní test
C12: butan | H12: Cílová skupina: žáci 2. stupně základní školy
C13: cyklohexan | H13: Typická věková skupina: 14 až 15
C14: kyselina octová | H14: Předmět: chemie
C15: 1,3 butadien | H15: Ročník: 9.
C16: methan | H16: Anotace: Tento učební materiál slouží k opakování
C17: methanol | H17: a procvičování učiva o využití uhlovodíků.
C18: toluen | H18: Klíčová slova aceton, ethanol, benzen, ethylen, acetylen,
... C21: propylen | H21: Speciální vzdělávací potřeby: dotyková tabule, projektor
H22: Datum 12. 8. 2011
H23: Autor: Mgr. Jitka Pospíšilová
C24: Výsledek testu ZDE
C25: Autorem učebního materiálu a všech jeho částí, není-li uvedeno jinak, je Mgr. Jitka Pospíšilová.

Sheet List2
B2: Kontrola a výsledek vypracování
B4: Zadání | C4: Správné řešení | D4: Vaše řešení | E4: Výsledek
B5: aceton | C5: rozpouštědlo | D5: =List1!D7 -> 0 | E5: =IF(C5=D5,"OK","CHYBA") -> CHYBA
B6: ethanol | C6: výroba alkoholických nápojů | D6: =List1!D8 -> 0 | E6: =IF(C6=D6,"OK","CHYBA") -> CHYBA
B7: benzen | C7: výroba léčiv rozpouštědlo | D7: =List1!D9 -> 0 | E7: =IF(C7=D7,"OK","CHYBA") -> CHYBA
B8: ethylen | C8: dozrávání ovoce | D8: =List1!D10 -> 0 | E8: =IF(C8=D8,"OK","CHYBA") -> CHYBA
B9: acetylen | C9: svařování | D9: =List1!D11 -> 0 | E9: =IF(C9=D9,"OK","CHYBA") -> CHYBA
B10: butan | C10: palivo | D10: =List1!D12 -> 0 | E10: =IF(C10=D10,"OK","CHYBA") -> CHYBA
B11: cyklohexan | C11: výroba benzenu | D11: =List1!D13 -> 0 | E11: =IF(C11=D11,"OK","CHYBA") -> CHYBA
B12: kyselina octová | C12: přísada do potravin | D12: =List1!D14 -> 0 | E12: =IF(C12=D12,"OK","CHYBA") -> CHYBA
B13: 1,3 butadien | C13: výroba kaučuku | D13: =List1!D15 -> 0 | E13: =IF(C13=D13,"OK","CHYBA") -> CHYBA
B14: methan | C14: palivo výroba sazí | D14: =List1!D16 -> 0 | E14: =IF(C14=D14,"OK","CHYBA") -> CHYBA
B15: methanol | C15: palivo | D15: =List1!D17 -> 0 | E15: =IF(C15=D15,"OK","CHYBA") -> CHYBA
B16: toluen | C16: rozpouštědlo | D16: =List1!D18 -> 0 | E16: =IF(C16=D16,"OK","CHYBA") -> CHYBA
... B19: propylen | C19: výroba plastů | D19: =List1!D21 -> 0 | E19: =IF(C19=D19,"OK","CHYBA") -> CHYBA
B21: Výsledek testu
C23: Správné odpovědi | E23: =COUNTIF(E5:E19,"OK") -> 0
C24: Chybné odpovědi | E24: =COUNTIF(E5:E19,"CHYBA") -> 15
C26: Dosažená známka | E26: =IF(E24>11,"5",IF(E24>8,"4",IF(E24>4,"3",IF(E24>1,"2",IF(E24>0,"1"))))) -> 5
C28: Zpět na test ZDE

Sheet List3
A1: chladící kapalina | B1: výroba alkoholických nápojů | C1: palivo | D1: svařování | E1: svařování | F1: výroba kaučuku | G1: hubení plísní | H1: přísada do potravin | I1: palivo | J1: palivo výroba sazí | K1: dozrávání ovoce | L1: rozpouštědlo | M1: chladící kapalina | N1: výroba dynamitu | O1: svařování
A2: rozpouštědlo | B2: hubení molů | C2: výroba léčiv rozpouštědlo | D2: rozpouštědlo | E2: výroba kaučuku | F2: palivo | G2: výroba benzinu | H2: barvivo | I2: výroba kaučuku | J2: rozpouštědlo | K2: přísada do potravin | L2: svařování | M2: rozpoštědlo | N2: palivo | O2: výroba plastů
A3: svařování | B3: dozrávání ovoce | C3: výroba sazí | D3: dozrávání ovoce | E3: rozpouštědlo | F3: výroba plastů | G3: výroba benzenu | H3: palivo | I3: rozpouštědlo | J3: hubení molů | K3: palivo | L3: výroba kaučuku | M3: hubení molů | N3: dozrávání ovoce | O3: hnojivo
